BEGIN:VCALENDAR
VERSION:2.0
PRODID:-//Hospice Georgian Triangle Foundation - ECPv6.15.20//NONSGML v1.0//EN
CALSCALE:GREGORIAN
METHOD:PUBLISH
X-ORIGINAL-URL:https://hgtfoundation.com
X-WR-CALDESC:Events for Hospice Georgian Triangle Foundation
REFRESH-INTERVAL;VALUE=DURATION:PT1H
X-Robots-Tag:noindex
X-PUBLISHED-TTL:PT1H
BEGIN:VTIMEZONE
TZID:America/Toronto
BEGIN:DAYLIGHT
TZOFFSETFROM:-0500
TZOFFSETTO:-0400
TZNAME:EDT
DTSTART:20220313T070000
END:DAYLIGHT
BEGIN:STANDARD
TZOFFSETFROM:-0400
TZOFFSETTO:-0500
TZNAME:EST
DTSTART:20221106T060000
END:STANDARD
BEGIN:DAYLIGHT
TZOFFSETFROM:-0500
TZOFFSETTO:-0400
TZNAME:EDT
DTSTART:20230312T070000
END:DAYLIGHT
BEGIN:STANDARD
TZOFFSETFROM:-0400
TZOFFSETTO:-0500
TZNAME:EST
DTSTART:20231105T060000
END:STANDARD
BEGIN:DAYLIGHT
TZOFFSETFROM:-0500
TZOFFSETTO:-0400
TZNAME:EDT
DTSTART:20240310T070000
END:DAYLIGHT
BEGIN:STANDARD
TZOFFSETFROM:-0400
TZOFFSETTO:-0500
TZNAME:EST
DTSTART:20241103T060000
END:STANDARD
BEGIN:DAYLIGHT
TZOFFSETFROM:-0500
TZOFFSETTO:-0400
TZNAME:EDT
DTSTART:20250309T070000
END:DAYLIGHT
BEGIN:STANDARD
TZOFFSETFROM:-0400
TZOFFSETTO:-0500
TZNAME:EST
DTSTART:20251102T060000
END:STANDARD
END:VTIMEZONE
BEGIN:VEVENT
DTSTART;TZID=America/Toronto:20240409T183000
DTEND;TZID=America/Toronto:20240409T200000
DTSTAMP:20260423T042354
CREATED:20240207T155157Z
LAST-MODIFIED:20240319T184829Z
UID:10000237-1712687400-1712692800@hgtfoundation.com
SUMMARY:Trivia Night!
DESCRIPTION:It is that time of year again when Dave and Gail Gibbons host trivia night at the Wasaga Beach United Church! Join us to fundraising for hospice and a ton of fun! \n\n\n\nPlease reserve by email or calling 705-429-1938. Tickets are limited and will not be sold at the door.   \n\n\n\nLast year’s event was a blast! This is one night you wont want to miss! \n\n\n\n\n\n\n\n\n\n\n\n\n	\n		Share This Story\, Choose Your Platform!\n		FacebookTwitterLinkedInRedditWhatsappTumblrPinterestVkEmail
URL:https://hgtfoundation.com/event/trivia-night-2/
LOCATION:Wasaga Beach United Church\, 380 Zoo Park Road\, Wasaga Beach\, ON\, Canada
CATEGORIES:Compassion in Action,External Events,Fundraiser
ATTACH;FMTTYPE=image/jpeg:https://hgtfoundation.com/wp-content/uploads/2024/02/trivia-2024-jpg.webp
ORGANIZER;CN="Dave and Gail Gibbons":MAILTO:dggtrivia@gmail.com
END:VEVENT
BEGIN:VEVENT
DTSTART;TZID=America/Toronto:20240208T090000
DTEND;TZID=America/Toronto:20240208T160000
DTSTAMP:20260423T042354
CREATED:20240105T163453Z
LAST-MODIFIED:20240112T193029Z
UID:10000060-1707382800-1707408000@hgtfoundation.com
SUMMARY:Winterblast
DESCRIPTION:Join us at the Craigleith Ski Club for the 39th Annual Winterblast\, an exhilarating day full of winter sports and activities. This event supports the Hospice Georgian Triangle and the Royal LePage Shelter Foundation. \n\n\n\nEvent Details\n\n\n\n\nDate: Thursday\, February 8\, 2024\n\n\n\nTime: 9:00 a.m. – 4:00 p.m.\n\n\n\nLocation: Craigleith Ski Club\, The Blue Mountains\, ON\n\n\n\n\nActivities and Highlights\n\n\n\n\nMorning: Registration and welcome introduction\, followed by snowshoe guided tours.\n\n\n\nMidday: Enjoy a complimentary beginner ski or snowboard lesson and a delightful lunch.\n\n\n\nAfternoon: Participate in fun races and the silent auction.\n\n\n\n\nImportant Times\n\n\n\n\n9:00 a.m.: Registration Opens\n\n\n\n9:30 a.m.: Event Introduction and Silent Auction Opening\n\n\n\n12:30 p.m.: Lunch\n\n\n\n2:30 p.m.: Cheque Presentation for Holiday House Tour and Raffle Closure\n\n\n\n3:00 p.m.: Silent Auction Closes\n\n\n\nApres Ski: Announcement of Race Winners\n\n\n\n\nGet Your Tickets\n\n\n\nTicket sales end Wednesday\, February 7\, 2024. Don’t miss out on this opportunity for winter fun and community support. \n\n\n\nJoin Us at Winterblast\n\n\n\nPrepare for a day packed with winter activities and the warmth of community spirit. Save the date and be ready to hit the slopes! \n\n\n\n\n\n\n\n\n\n\n	\n		Share This Story\, Choose Your Platform!\n		FacebookTwitterLinkedInRedditWhatsappTumblrPinterestVkEmail
URL:https://hgtfoundation.com/event/winterblast/
LOCATION:Craigleith Ski Club\, 164 Craigleith Road\, The Blue Mountains\, ON\, L9Y 0S4\, Canada
CATEGORIES:Compassion in Action,External Events,Fundraiser
ATTACH;FMTTYPE=image/png:https://hgtfoundation.com/wp-content/uploads/2024/01/Screenshot-2024-01-12-at-2.24.03 PM.png
END:VEVENT
BEGIN:VEVENT
DTSTART;TZID=America/Toronto:20231123T183000
DTEND;TZID=America/Toronto:20231123T223000
DTSTAMP:20260423T042354
CREATED:20230913T180825Z
LAST-MODIFIED:20230928T200353Z
UID:10000047-1700764200-1700778600@hgtfoundation.com
SUMMARY:Elton Sean Tribute Concert
DESCRIPTION:Join us for a spectacular tribute show celebrating the legendary ELTON JOHN! Get ready to sing along to all of his greatest hits and relive the magic of his iconic performances. This in-person event will be held at the John Saunders Centre in Collingwood.  \n\n\n\nDon’t miss out on this unforgettable evening of music and entertainment with the talent Elton Sean! \n\n\n\nElton Sean will play two 1-hour sets of Elton’s greatest hits (with an intermission – to change your dancing shoes of course!).  \n\n\n\n\nDoors: 6:30 pm\n\n\n\nShow Start: 7:30 pm\n\n\n\n\nWith proceeds supporting Hospice Georgian Triangle\, get ready to strap on your rocket packs\, because you wont want to miss this unique musical experience!  \n\n\n\nDon’t go breaking my heart – we’ll see you there! \n\n\n\n\n\n\n\n\n\n\n	\n		Share This Story\, Choose Your Platform!\n		FacebookTwitterLinkedInRedditWhatsappTumblrPinterestVkEmail
URL:https://hgtfoundation.com/event/early-elton-tribute-concert/
LOCATION:The John Saunders Centre\, 80 Sandford Fleming Dr.\, Collingwood\, ON\, L9Y 4V7\, Canada
CATEGORIES:Compassion in Action,External Events
ATTACH;FMTTYPE=image/jpeg:https://hgtfoundation.com/wp-content/uploads/2023/09/ELTON-SEAN-POSTER-version-2-DONE--jpg.webp
END:VEVENT
BEGIN:VEVENT
DTSTART;TZID=America/Toronto:20231030T170000
DTEND;TZID=America/Toronto:20231030T190000
DTSTAMP:20260423T042354
CREATED:20231006T182934Z
LAST-MODIFIED:20231027T173523Z
UID:10000048-1698685200-1698692400@hgtfoundation.com
SUMMARY:You Don’t Know What You Don’t Know - The Impact of Legacy Philanthropy
DESCRIPTION:NOTICE: LOCATION HAS CHANGED TO THE JOHN SAUNDERS CENTRE (see updated location info below) \n\n\n\nYou don’t know what you don’t know – the impact of legacy philanthropy to you and your community! \n\n\n\nJoin us for an informative session where we explore the profound impact of planned charitable gifts. Discover how your thoughtful contributions can benefit both your chosen charity and your financial well-being through strategic tax savings. \n\n\n\nEvent Highlights\n\n\n\nDuring this event\, you’ll gain valuable insights into: \n\n\n\n1. Gifts of Securities: Maximizing Your Impact \n\n\n\nExplore the world of gifts of securities and how they can create a lasting impact. Learn how these contributions are administered\, the process of gifting\, and the significant tax advantages they offer. \n\n\n\n2. Leveraging RRSPs/RRIFs/TFSAs for Giving: \n\n\n\nDiscover the potential of using your retirement accounts to make a difference. Understand the ins and outs of contributing to charitable causes through your registered accounts and the associated tax benefits. \n\n\n\n3. Donor Advised Funds: Empowering Your Giving \n\n\n\nUnveil the versatility of donor advised funds in managing your charitable contributions. Learn how they work\, how to establish them\, and the control they provide in directing your philanthropic endeavours. \n\n\n\n4. Harnessing Life Insurance for Giving: \n\n\n\nExplore the unique strategy of using life insurance policies for charitable giving. Understand the mechanisms\, advantages\, and potential financial benefits of this approach. \n\n\n\n5. Administration and Impact of Gifts: \n\n\n\nDelve into the practical side of planned giving. Understand the administrative processes involved and how your contributions create a positive impact on the charitable organizations you support. \n\n\n\n6. Unveiling Tax Benefits: \n\n\n\nLearn how planned charitable gifts can yield significant tax savings for you or your estate. Our experts will guide you through the intricacies of tax advantages associated with different forms of giving. \n\n\n\nWho Should Attend:\n\n\n\nThis event is designed for individuals and families who are passionate about philanthropy\, financial planning\, and leaving a lasting legacy. Whether you’re exploring new ways to give back or seeking strategic ways to maximize tax benefits\, this session is tailored for you. \n\n\n\nDiscover the transformative power of planned charitable giving and how it can make a positive impact on both your chosen causes and your financial outlook. Our knowledgeable experts will provide practical insights and guidance to help you navigate the world of philanthropy with confidence. \n\n\n\nSpeakers:\n\n\n\nPaul Chapman is an investment and wealth advisor with RBC Wealth Management in Collingwood. Paul has over 20 years of institutional capital markets experience with Royal Bank of Canada\, BMO Capital Markets and Merrill Lynch Canada. Paul holds a Chartered Investment Management (CIM®) designation\, and is also an Insurance Representative. Paul holds an MBA degree from the Richard Ivey School of Business. Active in the community\, Paul is involved in a number of charitable endeavours including Rotary\, Junior Achievers and the 100 Men Who Care initiative. Paul has also been a proud supporter of United Way Simcoe Muskoka\, having sat on the Board of Directors\, as well as Capitalize for Kids\, where he served on the Advisory Board. \n\n\n\nBrian Hunt is an award-winning cinematographer and filmmaker with a discerning eye for visual details and effective storytelling. In August 2022\, his wife Narda spent her last days at Hospice Georgian Triangle’s Campbell House after battling metastatic breast cancer since 2015. Brian shares his family experience\, what they didn’t know about hospice\, and the impact of that care on Narda’s life\, his life\, and their two children. Brian has used his talents to make special videos for Hospice Georgian Triangle to share awareness of programs and services and celebrate the incredible staff and volunteers at Campbell House and in the community.  \n\n\n\nSandra Sullivan is the Executive Director of Hospice Georgian Triangle Foundation. Hospice Georgian Triangle Foundation’s purpose is to raise awareness and the funds that allow Hospice Georgian Triangle to provide exceptional hospice palliative care and community programming. \n\n\n\nSecure your spot now and embark on a journey of meaningful giving and financial empowerment through planned charitable gifts. \n\n\n\n\n\n\n\n\n\n\n	\n		Share This Story\, Choose Your Platform!\n		FacebookTwitterLinkedInRedditWhatsappTumblrPinterestVkEmail
URL:https://hgtfoundation.com/event/you-dont-know-what-you-dont-know-the-impact-of-legacy-philanthropy/
LOCATION:The John Saunders Centre\, 80 Sandford Fleming Dr.\, Collingwood\, ON\, L9Y 4V7\, Canada
CATEGORIES:External Events
ATTACH;FMTTYPE=image/jpeg:https://hgtfoundation.com/wp-content/uploads/2023/10/https-cdn.evbuc_.com-images-585703559-24256380362-1-original.20230829-185955-jpeg.webp
END:VEVENT
BEGIN:VEVENT
DTSTART;TZID=America/Toronto:20230726T113000
DTEND;TZID=America/Toronto:20230726T140000
DTSTAMP:20260423T042354
CREATED:20230719T161230Z
LAST-MODIFIED:20230719T161233Z
UID:10000040-1690371000-1690380000@hgtfoundation.com
SUMMARY:Live Lunch: July 26
DESCRIPTION:Every Wednesday this summer in front of the Hospice Georgian Triangle Foundation office\, enjoy a lively scene filled with delicious food and free performances by our area’s top-notch musicians. \n\n\n\nThe entertainment is free\, lunch must be purchased.  \n\n\n\nThe lineup for this summer is as follows:  \n\n\n\n\nJuly 26\, music by Jasmin Miller\, lunch by Fish & Sips \n\n\n\nAug. 2\, music by Strange Potatoes\, lunch by Tesoro \n\n\n\nAug. 9\, music by Jenny Howes\, lunch by Men with Knives \n\n\n\nAug. 16\, music by Samantha Jones\, lunch by Low Down \n\n\n\nAug. 23\, music by Aaron Garner\, lunch by Bent Taco \n\n\n\nAug. 30\, music by Romney Getty\, lunch by Black Box Catering Company\n\n\n\n\nSo be sure to stop by! Learn more about the compassionate care provided by Hospice Georgian Triangle\, sign up to volunteer\, donate or just say hello! \n\n\n\nThanks to: Collingwood Chamber of Commerce\, Peak FM\, Collingwood Today \n\n\n\n\n\n\n\n\n\n\n	\n		Share This Story\, Choose Your Platform!\n		FacebookTwitterLinkedInRedditWhatsappTumblrPinterestVkEmail
URL:https://hgtfoundation.com/event/live-lunch-july-26/
LOCATION:186 Hurontario Street\, 186 Hurontario Street\, Collingwood\, ON\, Canada
CATEGORIES:Compassion in Action,External Events
END:VEVENT
BEGIN:VEVENT
DTSTART;TZID=America/Toronto:20230719T120000
DTEND;TZID=America/Toronto:20230719T140000
DTSTAMP:20260423T042354
CREATED:20230719T160343Z
LAST-MODIFIED:20230719T160531Z
UID:10000039-1689768000-1689775200@hgtfoundation.com
SUMMARY:Live Lunch: July 19
DESCRIPTION:Every Wednesday in front of the Hospice Georgian Triangle Foundation office\, enjoy a lively scene filled with delicious food and free performances by our area’s top-notch musicians. \n\n\n\nSo be sure to stop by! Learn more about the compassionate care provided by Hospice Georgian Triangle\, sign up to volunteer\, donate or just say hello! \n\n\n\nJuly 19: \n\n\n\n\nMusical Guest: Jamie Ciotka  \n\n\n\nFeatured Restaurant: Alphorn \n\n\n\nThanks to: Collingwood Chamber of Commerce & Peak FM \n\n\n\n\n\n\n\n\n\n\n\n	\n		Share This Story\, Choose Your Platform!\n		FacebookTwitterLinkedInRedditWhatsappTumblrPinterestVkEmail
URL:https://hgtfoundation.com/event/live-lunch/
LOCATION:186 Hurontario Street\, 186 Hurontario Street\, Collingwood\, ON\, Canada
CATEGORIES:Compassion in Action,External Events
ORGANIZER;CN="Hospice Georgian Triangle Foundation":MAILTO:foundation@hospicegeorgiantriangle.com
END:VEVENT
END:VCALENDAR